BEGIN:VCALENDAR
PRODID:-//AT Content Types//AT Event//EN
VERSION:1.0
BEGIN:VEVENT
DTSTART:20220528T070000Z
DTEND:20220529T160000Z
DCREATED:20220325T110810Z
UID:ATEvent-293115f6c4a943208c73aa3b14768e0b
SEQUENCE:0
LAST-MODIFIED:20220429T141952Z
SUMMARY:Convention Nationale UNEPREF
LOCATION:Gagnières (30)
PRIORITY:3
TRANSP:0
END:VEVENT
END:VCALENDAR
