BEGIN:VCALENDAR
PRODID:-//AT Content Types//AT Event//EN
VERSION:1.0
BEGIN:VEVENT
DTSTART:20180415T060000Z
DTEND:20180422T160000Z
DCREATED:20171219T131445Z
UID:ATEvent-3541d3864e8541339ee3ba8bf6ce44e9
SEQUENCE:0
LAST-MODIFIED:20171219T131547Z
SUMMARY:Conseil exécutif
LOCATION:Tahiti
PRIORITY:3
TRANSP:0
END:VEVENT
END:VCALENDAR
