BEGIN:VCALENDAR
PRODID:-//AT Content Types//AT Event//EN
VERSION:2.0
METHOD:PUBLISH
BEGIN:VEVENT
DTSTAMP:20260423T200913Z
CREATED:20171002T141406Z
UID:ATEvent-bd2b67bb5dcc41fd942ce76f233866f2
LAST-MODIFIED:20171012T081841Z
SUMMARY:Conseil exécutif en Suisse
DTSTART:20171016T060000Z
DTEND:20171022T123000Z
LOCATION:Fribourg
URL:http://www.cevaa.org/actualites/la-cevaa-en-conseil-executif-a-fribourg
CLASS:PUBLIC
END:VEVENT
END:VCALENDAR
