BEGIN:VCALENDAR
PRODID:-//AT Content Types//AT Event//EN
VERSION:1.0
BEGIN:VEVENT
DTSTART:20240408T120000Z
DTEND:20240414T100000Z
DCREATED:20240326T161742Z
UID:ATEvent-c70c68ce92fd4b2f9cacae8a73518dbd
SEQUENCE:0
LAST-MODIFIED:20240326T162954Z
SUMMARY:Conseil exécutif de la Cevaa
LOCATION:Sion\, Valais Suisse
PRIORITY:3
TRANSP:0
END:VEVENT
END:VCALENDAR
