BEGIN:VCALENDAR
PRODID:-//AT Content Types//AT Event//EN
VERSION:2.0
METHOD:PUBLISH
BEGIN:VEVENT
DTSTAMP:20260423T200601Z
CREATED:20241007T081224Z
UID:ATEvent-a7cdd66b9b2d49f09a635e945cfa1f73
LAST-MODIFIED:20241009T101333Z
SUMMARY:Conseil exécutif
DTSTART:20241021T080000Z
DTEND:20241025T080000Z
LOCATION:visioconférence
CLASS:PUBLIC
END:VEVENT
END:VCALENDAR
