BEGIN:VCALENDAR
PRODID:-//AT Content Types//AT Event//EN
VERSION:1.0
BEGIN:VEVENT
DTSTART:20220404T100000Z
DTEND:20220410T120000Z
DCREATED:20220325T110302Z
UID:ATEvent-31b13fe173344843a5cbeb675e8750a2
SEQUENCE:0
LAST-MODIFIED:20220325T110352Z
SUMMARY:Conseil Exécutif
LOCATION:Sète - France
PRIORITY:3
TRANSP:0
END:VEVENT
END:VCALENDAR
