BEGIN:VCALENDAR
PRODID:-//AT Content Types//AT Event//EN
VERSION:2.0
METHOD:PUBLISH
BEGIN:VEVENT
DTSTAMP:20260423T200552Z
CREATED:20180918T085510Z
UID:ATEvent-34fef503648e4075b9742f9cfabe17d1
LAST-MODIFIED:20180918T085513Z
SUMMARY:Conseil exécutif
DTSTART:20181012T065500Z
DTEND:20181012T165500Z
LOCATION:Douala\, Cameroun
CLASS:PUBLIC
END:VEVENT
END:VCALENDAR
