BEGIN:VCALENDAR
PRODID:-//AT Content Types//AT Event//EN
VERSION:1.0
BEGIN:VEVENT
DTSTART:20240606T220000Z
DTEND:20240607T220000Z
DCREATED:20240522T094022Z
UID:ATEvent-00e3c30408034891903bc869a92944f0
SEQUENCE:0
LAST-MODIFIED:20240522T094320Z
SUMMARY:Conseil du Défap
LOCATION:Paris
PRIORITY:3
TRANSP:0
END:VEVENT
END:VCALENDAR
