BEGIN:VCALENDAR
PRODID:-//AT Content Types//AT Event//EN
VERSION:2.0
METHOD:PUBLISH
BEGIN:VEVENT
DTSTAMP:20260424T061827Z
CREATED:20190926T151056Z
UID:ATEvent-310ad64c82b74a11b1d28fb837520678
LAST-MODIFIED:20190926T151101Z
SUMMARY:Colloque sur la Refondation du Défap
DTSTART:20191011T070000Z
DTEND:20191013T180000Z
LOCATION:Paris
CLASS:PUBLIC
END:VEVENT
END:VCALENDAR
