BEGIN:VCALENDAR
PRODID:-//AT Content Types//AT Event//EN
VERSION:2.0
METHOD:PUBLISH
BEGIN:VEVENT
DTSTAMP:20260423T040434Z
CREATED:20240702T094253Z
UID:ATEvent-29d8dfe0b68a4fb98f76b15debdfd67b
LAST-MODIFIED:20240702T094258Z
SUMMARY:Colloque de la Communauté de Pomeyrol (13) : « Relations Nord-Sud-Nord – pour une rencontre de vérité »
DTSTART:20240704T220000Z
DTEND:20240707T220000Z
CLASS:PUBLIC
END:VEVENT
END:VCALENDAR
