BEGIN:VCALENDAR
PRODID:-//AT Content Types//AT Event//EN
VERSION:1.0
BEGIN:VEVENT
DTSTART:20240625T220000Z
DTEND:20240628T220000Z
DCREATED:20240621T093515Z
UID:ATEvent-fdffb6289b7649d3a514b85a8c000af5
SEQUENCE:0
LAST-MODIFIED:20240621T093520Z
SUMMARY:Colloque AFOM : « Mission : le sens des mots »
LOCATION:Paris
PRIORITY:3
TRANSP:0
END:VEVENT
END:VCALENDAR
