BEGIN:VCALENDAR
PRODID:-//AT Content Types//AT Event//EN
VERSION:1.0
BEGIN:VEVENT
DTSTART:20250517T060000Z
DTEND:20250517T170000Z
DCREATED:20250519T135626Z
UID:ATEvent-399a2131aec4480e8e95b447ab9b7d7b
SEQUENCE:0
LAST-MODIFIED:20250519T135630Z
SUMMARY:Claudia Schulz à la journée « Terre d’Espérance » à Lyon
LOCATION:Lyon
PRIORITY:3
TRANSP:0
END:VEVENT
END:VCALENDAR
