BEGIN:VCALENDAR
PRODID:-//AT Content Types//AT Event//EN
VERSION:1.0
BEGIN:VEVENT
DTSTART:20180203T070000Z
DTEND:20180204T170000Z
DCREATED:20171219T131313Z
UID:ATEvent-7349383662044fa784d4579a82715bef
SEQUENCE:0
LAST-MODIFIED:20171219T131615Z
SUMMARY:Bureau de la Cevaa
LOCATION:Montpellier
PRIORITY:3
TRANSP:0
END:VEVENT
END:VCALENDAR
