BEGIN:VCALENDAR
PRODID:-//AT Content Types//AT Event//EN
VERSION:1.0
BEGIN:VEVENT
DTSTART:20200208T075000Z
DTEND:20200209T175000Z
DCREATED:20200219T115249Z
UID:ATEvent-ab592a74abeb4d3aa4cd46c9c2e3bba4
SEQUENCE:0
LAST-MODIFIED:20200219T115516Z
SUMMARY:Réunion du Bureau
LOCATION:Montpellier
PRIORITY:3
TRANSP:0
END:VEVENT
END:VCALENDAR
