BEGIN:VCALENDAR
PRODID:-//AT Content Types//AT Event//EN
VERSION:1.0
BEGIN:VEVENT
DTSTART:20181015T065500Z
DTEND:20181015T175500Z
DCREATED:20180918T085608Z
UID:ATEvent-421d849efb3044e492c1221dee86564f
SEQUENCE:0
LAST-MODIFIED:20180918T085626Z
SUMMARY:Assemblée Générale
LOCATION:Douala\, Cameroun
PRIORITY:3
TRANSP:0
END:VEVENT
END:VCALENDAR
