BEGIN:VCALENDAR
PRODID:-//AT Content Types//AT Event//EN
VERSION:2.0
METHOD:PUBLISH
BEGIN:VEVENT
DTSTAMP:20260423T073654Z
CREATED:20240522T091139Z
UID:ATEvent-9be9bacd238f4452b59c8779c611dc6d
LAST-MODIFIED:20240522T091145Z
SUMMARY:130° Synode Missionnaire de DM
DTSTART:20240607T220000Z
DTEND:20240607T220000Z
LOCATION:Berne
CLASS:PUBLIC
END:VEVENT
END:VCALENDAR
