BEGIN:VCALENDAR
PRODID:-//AT Content Types//AT Event//EN
VERSION:1.0
BEGIN:VEVENT
DTSTART:20220501T070000Z
DTEND:20220510T160000Z
DCREATED:20220325T110627Z
UID:ATEvent-d9452de5b9b84c95b613e9c0daab23ba
SEQUENCE:0
LAST-MODIFIED:20220429T141119Z
SUMMARY:Séminaire AEBA
LOCATION:Yaoundé\, Cameroun
PRIORITY:3
TRANSP:0
END:VEVENT
END:VCALENDAR
